BEGIN:VCALENDAR
VERSION:2.0
PRODID:-//ChamberMaster//Event Calendar 2.0//EN
METHOD:PUBLISH
X-PUBLISHED-TTL:P3D
REFRESH-INTERVAL:P3D
CALSCALE:GREGORIAN
BEGIN:VEVENT
DTSTART:20170304T030000Z
DTEND:20170304T044500Z
X-MICROSOFT-CDO-ALLDAYEVENT:FALSE
SUMMARY:The Press Room presents The Kenny Brothers Band
DESCRIPTION:The Kenny Brothers Band is an improvisational Mountain Rock band from the backwoods of Stratham\, New Hampshire. The band performs original songs that are rooted in alternative-  folk music but with warm-  hearted lyrics and earthy grooves. The Band\, Little Feat\, The Grateful Dead\, and many others influence their unique groove-  based roots music. \n\n\n\nThe band was founded in 2013 when the three brothers all realized that they shared a true passion for music. Billy\, the oldest\, rips the guitar\; Taylor\, in the middle\, wales on the drums\; and Joey\, the youngest\, thumps on the bass. They are often known for having guest musicians onstage including a keyboardist\, a horn section\, and a fiddle player that add to their eclectic sound. They often integrate acoustic sets into their live shows\, providing a variety of musical tastes to suit every venue's needs. A recent article by Chris Hislop in the Portsmouth Herald writes "In one short year\, the group has quickly become a staple on the regional live music scene."
X-ALT-DESC;FMTTYPE=text/html:The Kenny Brothers Band is an improvisational Mountain Rock band from the backwoods of Stratham\, New Hampshire. The band performs original songs that are rooted in alternative-&shy\;&#8208\;folk music but with warm-&shy\;&#8208\;hearted lyrics and earthy grooves. The Band\, Little Feat\, The Grateful Dead\, and many others influence their unique groove-&shy\;&#8208\;based roots music.&nbsp\;<br />\n<br />\nThe band was founded in 2013 when the three brothers all realized that they shared a true passion for music. Billy\, the oldest\, rips the guitar\; Taylor\, in the middle\, wales on the drums\; and Joey\, the youngest\, thumps on the bass. They are often known for having guest musicians onstage including a keyboardist\, a horn section\, and a fiddle player that add to their eclectic sound. They often integrate acoustic sets into their live shows\, providing a variety of musical tastes to suit every venue&rsquo\;s needs. A recent article by Chris Hislop in the Portsmouth Herald writes &ldquo\;In one short year\, the group has quickly become a staple on the regional live music scene.&rdquo\;
LOCATION:The Press Room 77 Daniel Street Portsmouth\, NH
UID:e.1659.30081
SEQUENCE:3
DTSTAMP:20260421T164140Z
URL:https://business.portsmouthchamber.org/events/details/the-press-room-presents-the-kenny-brothers-band-30081
END:VEVENT

END:VCALENDAR
