BEGIN:VCALENDAR
VERSION:2.0
PRODID:-//ChamberMaster//Event Calendar 2.0//EN
METHOD:PUBLISH
X-PUBLISHED-TTL:P3D
REFRESH-INTERVAL:P3D
CALSCALE:GREGORIAN
BEGIN:VEVENT
DTSTART:20161113T030000Z
DTEND:20161113T044500Z
X-MICROSOFT-CDO-ALLDAYEVENT:FALSE
SUMMARY:The Press Room Presents: Viva La Hop
DESCRIPTION:Viva La Hop is a 9 piece organic hip-hop group formed through the will to connect conscious lyrics with infectious grooves. From the horns\, to the keys\, to the strings\, to the kick drum they will keep your heads bobbin and booties movin\; combined w/ the words of Philly G & Baylen to educate your minds. Rest assured Viva La Hop will set the party off any day of the week! @vivalahop vivalahop.com
X-ALT-DESC;FMTTYPE=text/html:Viva La Hop is a 9 piece organic hip-hop group formed through the will to connect conscious lyrics with infectious grooves. From the horns\, to the keys\, to the strings\, to the kick drum they will keep your heads bobbin and booties movin\; combined w/ the words of Philly G &amp\; Baylen to educate your minds. Rest assured Viva La Hop will set the party off any day of the week! @vivalahop vivalahop.com<br />\n
LOCATION:The Press Room 77 Daniel Street\, Portsmouth
UID:e.1659.27999
SEQUENCE:3
DTSTAMP:20260421T212945Z
URL:https://business.portsmouthchamber.org/events/details/the-press-room-presents-viva-la-hop-27999
END:VEVENT

END:VCALENDAR
