BEGIN:VCALENDAR
VERSION:2.0
PRODID:-//ChamberMaster//Event Calendar 2.0//EN
METHOD:PUBLISH
X-PUBLISHED-TTL:P3D
REFRESH-INTERVAL:P3D
CALSCALE:GREGORIAN
BEGIN:VEVENT
DTSTART:20170324T010000Z
DTEND:20170324T010000Z
X-MICROSOFT-CDO-ALLDAYEVENT:FALSE
SUMMARY:The Press Room presents: Young Frontier
DESCRIPTION:Daniel Young\, Bethany Weiman\, and Joe Young
X-ALT-DESC;FMTTYPE=text/html:Daniel Young\, Bethany Weiman\, and Joe Young
LOCATION:The Press Room 77 Daniel Street Portsmouth\, NH
UID:e.1659.30093
SEQUENCE:3
DTSTAMP:20260421T163523Z
URL:https://business.portsmouthchamber.org/events/details/the-press-room-presents-young-frontier-30093
END:VEVENT

END:VCALENDAR
