BEGIN:VCALENDAR
VERSION:2.0
PRODID:-//ChamberMaster//Event Calendar 2.0//EN
METHOD:PUBLISH
X-PUBLISHED-TTL:P3D
REFRESH-INTERVAL:P3D
CALSCALE:GREGORIAN
BEGIN:VEVENT
DTSTART:20170126T020000Z
DTEND:20170126T040000Z
X-MICROSOFT-CDO-ALLDAYEVENT:FALSE
SUMMARY:The Press Room: Scott Solsky and Mike Walsh
DESCRIPTION:Enjoy the live music\, great food and drinks at the Press Room!
X-ALT-DESC;FMTTYPE=text/html:Enjoy the live music\, great food and drinks at the Press Room!
LOCATION:The Press Room 77 Daniel Street Portsmouth\, NH
UID:e.1659.28272
SEQUENCE:3
DTSTAMP:20260421T181937Z
URL:https://business.portsmouthchamber.org/events/details/the-press-room-scott-solsky-and-mike-walsh-28272
END:VEVENT

END:VCALENDAR
