BEGIN:VCALENDAR
VERSION:2.0
PRODID:-//ChamberMaster//Event Calendar 2.0//EN
METHOD:PUBLISH
X-PUBLISHED-TTL:P3D
REFRESH-INTERVAL:P3D
CALSCALE:GREGORIAN
BEGIN:VEVENT
DTSTART:20161109T230000Z
DTEND:20161110T010000Z
X-MICROSOFT-CDO-ALLDAYEVENT:FALSE
SUMMARY:The Press Room: The Silver Linings ft.Kent Allyn\, Jason Crigler\, Monica Crigler and Dave Mattacks
DESCRIPTION:Kent Allyn\, Jason Crigler and Dave Mattacks play American music from the past\, present and future.
X-ALT-DESC;FMTTYPE=text/html:Kent Allyn\, Jason Crigler and Dave Mattacks play American music from the past\, present and future.
LOCATION:The Press Room 77 Daniel Street Portsmouth\, NH\, 03801
UID:e.1659.27995
SEQUENCE:3
DTSTAMP:20260421T212944Z
URL:https://business.portsmouthchamber.org/events/details/the-press-room-the-silver-linings-ft-kent-allyn-jason-crigler-monica-crigler-and-dave-mattacks-27995
END:VEVENT

END:VCALENDAR
