BEGIN:VCALENDAR
VERSION:2.0
PRODID:-//ChamberMaster//Event Calendar 2.0//EN
METHOD:PUBLISH
X-PUBLISHED-TTL:P3D
REFRESH-INTERVAL:P3D
CALSCALE:GREGORIAN
BEGIN:VEVENT
DTSTART:20170402T010000Z
DTEND:20170402T010000Z
X-MICROSOFT-CDO-ALLDAYEVENT:FALSE
SUMMARY:The Press Rooms host Lux Lives East Coast 2017
DESCRIPTION:Lux Lives East Coast 2017\n\nTimothy Fife and Jungle Juice present Lux Lives East Coast 2017 at The Press Room!\n\n\n\nFeaturing:\n\nNH Legends JUPITER 2!\n\nThe Demon Seeds!\n\nThe Gamma Goochies!\n\n\n\nDJ Kogar the Swinging Ape spinning Lux and Ivy's Favorite tunes!\n\n\n\nLux Lives is a celebration of the life of Lux Interior who passed way 8 years ago this February. For the past 7 years some great folks across the pond have been holding annual Lux Lives events where fans get together and see bands\, listen to music\, and basically celebrate everything Cramps. This has spread to the US starting 5 years ago with the first Lux Lives (US) being held in Boston. It was a great success. Since then\, there have been Lux Lives events all over the globe.\n\n\n\nLast year there were 3 Lux Lives East Coast events in NYC\, Providence and Portland Maine! Bands and DJ's and fans came together to celebrate the life of Lux Interior. Lux Lives East Coast raised $2\,787.23 for Best Friends Animal Society. Since it's inception\, Lux Lives East Coast has raised over 10\,000.00 for Lux and Ivy's favorite charity.\n\n\n\nLike last year's event there will be Lux Lives items for sale and all proceeds will go to Best Friends. Watch this space for exciting updates as we get closer to the show!\n\n\n\nThanks and hope to see you there!\n\n\n\n-Kogar the Swinging Ape
X-ALT-DESC;FMTTYPE=text/html:<br />\n<strong>Lux Lives East Coast 2017</strong><br />\nTimothy Fife and Jungle Juice present Lux Lives East Coast 2017 at The Press Room!<br />\n<br />\n<strong>Featuring:</strong><br />\nNH Legends JUPITER 2!<br />\nThe Demon Seeds!<br />\nThe Gamma Goochies!<br />\n<br />\nDJ Kogar the Swinging Ape spinning Lux and Ivy&#39\;s Favorite tunes!<br />\n<br />\nLux Lives is a celebration of the life of Lux Interior who passed way 8 years ago this February. For the past 7 years some great folks across the pond have been holding annual Lux Lives events where fans get together and see bands\, listen to music\, and basically celebrate everything Cramps. This has spread to the US starting 5 years ago with the first Lux Lives (US) being held in Boston. It was a great success. Since then\, there have been Lux Lives events all over the globe.<br />\n<br />\nLast year there were 3 Lux Lives East Coast events in NYC\, Providence and Portland Maine! Bands and DJ&#39\;s and fans came together to celebrate the life of Lux Interior. Lux Lives East Coast raised $2\,787.23 for Best Friends Animal Society. Since it&#39\;s inception\, Lux Lives East Coast has raised over 10\,000.00 for Lux and Ivy&#39\;s favorite charity.<br />\n<br />\nLike last year&#39\;s event there will be Lux Lives items for sale and all proceeds will go to Best Friends. Watch this space for exciting updates as we get closer to the show!<br />\n<br />\nThanks and hope to see you there!<br />\n<br />\n-Kogar the Swinging Ape
LOCATION:The Press Room 77 Daniel Street Portsmouth\, NH\,
UID:e.1659.30098
SEQUENCE:3
DTSTAMP:20260421T131950Z
URL:https://business.portsmouthchamber.org/events/details/the-press-rooms-host-lux-lives-east-coast-2017-30098
END:VEVENT

END:VCALENDAR
