BEGIN:VCALENDAR
VERSION:2.0
PRODID:-//ChamberMaster//Event Calendar 2.0//EN
METHOD:PUBLISH
X-PUBLISHED-TTL:P3D
REFRESH-INTERVAL:P3D
CALSCALE:GREGORIAN
BEGIN:VEVENT
DTSTART:20131210T233000Z
DTEND:20131211T013000Z
X-MICROSOFT-CDO-ALLDAYEVENT:FALSE
SUMMARY:The River House Dinner Series\, 5-Course Gluten-free Dinner Tasting
DESCRIPTION:The Harvest Dinner Series is a series of seven dinners commencing in December 2013 and running through May 2014. The December 10th event kicks off at 6:30 pm and features a five course gluten free meal. Reservation seating for these dinners are limited so book your seat today! (603) 431-2600
X-ALT-DESC;FMTTYPE=text/html:The Harvest Dinner Series is a series of seven dinners commencing in December 2013 and running through May 2014. The December 10th event kicks off at 6:30 pm and features a five course gluten free meal. Reservation seating for these dinners are limited so book your seat today! (603) 431-2600
LOCATION:The River House Restaurant\, 53 Bow Street\, Portsmouth NH
UID:e.1659.756
SEQUENCE:3
DTSTAMP:20260420T043242Z
URL:https://business.portsmouthchamber.org/events/details/the-river-house-dinner-series-5-course-gluten-free-dinner-tasting-12-10-2013-756
END:VEVENT

END:VCALENDAR
