BEGIN:VCALENDAR
VERSION:2.0
PRODID:-//ChamberMaster//Event Calendar 2.0//EN
METHOD:PUBLISH
X-PUBLISHED-TTL:P3D
REFRESH-INTERVAL:P3D
CALSCALE:GREGORIAN
BEGIN:VEVENT
DTSTART:20131204T233000Z
DTEND:20131205T023000Z
X-MICROSOFT-CDO-ALLDAYEVENT:FALSE
SUMMARY:The River House Match Game!
DESCRIPTION:Join us downstairs in the River Bar Tavern for our version of\, "The Match Game" Prizes include gift cards\, swag\, and more! Game night specials for contestants and audience remembers include... $5.99 Appetizer specials $5.00 Svedka cocktails $9.99 22 oz Long Trail Imperial Pumpkin and Shipyard Smashed Pumpkin $3.50 Pints of Tuckerman Pale Ale $3.50 Select seasonal bottles and caned beer selections. Sponsored by Svedka vodka and River House Brew (Tuckerman Pale Ale).
X-ALT-DESC;FMTTYPE=text/html:Join us downstairs in the River Bar Tavern for our version of\, &quot\;The Match Game&quot\; Prizes include gift cards\, swag\, and more! Game night specials for contestants and audience remembers include... $5.99 Appetizer specials $5.00 Svedka cocktails $9.99 22 oz Long Trail Imperial Pumpkin and Shipyard Smashed Pumpkin $3.50 Pints of Tuckerman Pale Ale $3.50 Select seasonal bottles and caned beer selections. Sponsored by Svedka vodka and River House Brew (Tuckerman Pale Ale).
LOCATION:The River House Restaurant 53 Bow Street Portsmouth NH
UID:e.1659.766
SEQUENCE:3
DTSTAMP:20260420T043617Z
URL:https://business.portsmouthchamber.org/events/details/the-river-house-match-game-12-04-2013-766
END:VEVENT

END:VCALENDAR
