BEGIN:VCALENDAR
VERSION:2.0
PRODID:-//ChamberMaster//Event Calendar 2.0//EN
METHOD:PUBLISH
X-PUBLISHED-TTL:P3D
REFRESH-INTERVAL:P3D
CALSCALE:GREGORIAN
BEGIN:VEVENT
DTSTART;VALUE=DATE:20170710
DTEND;VALUE=DATE:20170711
TRANSP:TRANSPARENT
X-MICROSOFT-CDO-ALLDAYEVENT:TRUE
SUMMARY:The Seacoast Repertory presents: Monty Python's Spamalot
DESCRIPTION:Welcome to the funniest show on earth. Monty Python's Spamalot is a hilarious musical romp ripped straight from "Monty Python and the Holy Grail"\, coconut shell galloping sounds and all. Join King Arthur and his idiot Knights of the Round Table as they search for the Holy Grail\, except with way more musical numbers than the movie.
X-ALT-DESC;FMTTYPE=text/html:Welcome to the funniest show on earth. Monty Python&rsquo\;s Spamalot is a hilarious musical romp ripped straight from &ldquo\;Monty Python and the Holy Grail&rdquo\;\, coconut shell galloping sounds and all. Join King Arthur and his idiot Knights of the Round Table as they search for the Holy Grail\, except with way more musical numbers than the movie.
LOCATION:The Seacoast Repertory Theatre 125 Bow St\, Portsmouth\, NH
UID:e.1659.29861
SEQUENCE:3
DTSTAMP:20260421T101955Z
URL:https://business.portsmouthchamber.org/events/details/the-seacoast-repertory-presents-monty-python-s-spamalot-07-10-2017-29861
END:VEVENT

END:VCALENDAR
