BEGIN:VCALENDAR
VERSION:2.0
PRODID:-//ChamberMaster//Event Calendar 2.0//EN
METHOD:PUBLISH
X-PUBLISHED-TTL:P3D
REFRESH-INTERVAL:P3D
CALSCALE:GREGORIAN
BEGIN:VEVENT
DTSTART:20140425T220000Z
DTEND:20140425T230000Z
X-MICROSOFT-CDO-ALLDAYEVENT:FALSE
SUMMARY:"The Silent Work of Ordinary People" An Evening with Dr Laurel Thatcher Ulrich
DESCRIPTION:Dr. Ulrich\, a History Professor at Harvard\, a historian of early America and the history of Women and Honorary co-chair of the African Burying Ground Memorial Park project will be giving a talk about 'The Silent Work of Ordinary People" and the "interconnection between pubilic events and private experience."
X-ALT-DESC;FMTTYPE=text/html:Dr. Ulrich\, a History Professor at Harvard\, a historian of early America and the history of Women and Honorary co-chair of the African Burying Ground Memorial Park project will be giving a talk about &#39\;The Silent Work of Ordinary People&quot\; and the &quot\;interconnection between pubilic events and private experience.&quot\;
LOCATION:292 State St. Portsmouth NH
UID:e.1659.1484
SEQUENCE:3
DTSTAMP:20260419T231505Z
URL:https://business.portsmouthchamber.org/events/details/the-silent-work-of-ordinary-people-an-evening-with-dr-laurel-thatcher-ulrich-04-25-2014-1484
END:VEVENT

END:VCALENDAR
