BEGIN:VCALENDAR
VERSION:2.0
PRODID:-//ChamberMaster//Event Calendar 2.0//EN
METHOD:PUBLISH
X-PUBLISHED-TTL:P3D
REFRESH-INTERVAL:P3D
CALSCALE:GREGORIAN
BEGIN:VEVENT
DTSTART:20160309T230000Z
DTEND:20160310T010000Z
X-MICROSOFT-CDO-ALLDAYEVENT:FALSE
SUMMARY:The Silver Linings
DESCRIPTION:Kent Allyn\, Jason Crigler and Dave Mattacks play American music from the past\, present and future.
X-ALT-DESC;FMTTYPE=text/html:Kent Allyn\, Jason Crigler and Dave Mattacks play American music from the past\, present and future.
LOCATION:The Press Room 77 Daniel Street\, Portsmouth
UID:e.1659.18191
SEQUENCE:3
DTSTAMP:20260420T145636Z
URL:https://business.portsmouthchamber.org/events/details/the-silver-linings-03-09-2016-18191
END:VEVENT

END:VCALENDAR
