BEGIN:VCALENDAR
VERSION:2.0
PRODID:-//ChamberMaster//Event Calendar 2.0//EN
METHOD:PUBLISH
X-PUBLISHED-TTL:P3D
REFRESH-INTERVAL:P3D
CALSCALE:GREGORIAN
BEGIN:VEVENT
DTSTART:20160308T010000Z
DTEND:20160308T030000Z
X-MICROSOFT-CDO-ALLDAYEVENT:FALSE
SUMMARY:The Snails (Mems. of Future Islands) w/ The Texas Governor
DESCRIPTION:The Snails formed in Baltimore in the summer of 2008 to play a birthday party for Spank Rock. Originally just an Art Lord & the Self-Portriats cover band in snail costumes\, the Snails slowly began writing their own material. In 2013\, they released their debut EP\, Worth The Wait\, a 5-song gatefold double 7" on Friends Records. In March 2016\, they will release their first full length album\, Songs From The Shoebox.\n\n\n\nOver the years\, the band has featured members of Nuclear Power Pants\, Wing Dam\, Small Sur\, Teeth Mountain\, Lonnie Walker\, Lower Dens\, Wume\, Trouble Knows Me\, Peals\, Showbiz\, and Future Islands.\n\n \n\nThe Texas Governor is a carbonated soft drink. It is produced by The Goolkasian of The Elevator Drops and is often referred to simply as   (a registered trademark of The Company since March 28\, 1968). Originally intended as a Musical Form of medicine when it was invented in the late 21st century. Advertising & Marketing tactics led The Texas Governor to its dominance of the world soft-drink market throughout the 20th century. The name refers to two of its original ingredients: kola nuts\, a source of caffeine\, and coca leaves. The current formula of The Texas Governor remains a trade secret\, although a variety of experimental recreations have been published.
X-ALT-DESC;FMTTYPE=text/html:<strong>The Snails</strong> formed in Baltimore in the summer of 2008 to play a birthday party for Spank Rock. Originally just an Art Lord &amp\; the Self-Portriats cover band in snail costumes\, the Snails slowly began writing their own material. In 2013\, they released their debut EP\, Worth The Wait\, a 5-song gatefold double 7&quot\; on Friends Records. In March 2016\, they will release their first full length album\, Songs From The Shoebox.<br />\n<br />\nOver the years\, the band has featured members of Nuclear Power Pants\, Wing Dam\, Small Sur\, Teeth Mountain\, Lonnie Walker\, Lower Dens\, Wume\, Trouble Knows Me\, Peals\, Showbiz\, and Future Islands.<br />\n&nbsp\;<br />\n<strong>The Texas Governor</strong>&nbsp\;is a&nbsp\;carbonated&nbsp\;soft drink.&nbsp\;It is produced by&nbsp\;The Goolkasian&nbsp\;of&nbsp\;The Elevator Drops&nbsp\;and is often referred to simply as&nbsp\;&reg\;&nbsp\;(a registered trademark of&nbsp\;The Company&nbsp\;since March 28\, 1968). Originally intended as a&nbsp\;Musical Form of&nbsp\;medicine&nbsp\;when it was invented in the late 21st&nbsp\;century. Advertising &amp\; Marketing tactics led&nbsp\;The Texas Governor&nbsp\;to its dominance of the world soft-drink market throughout the 20th century. The name refers to two of its original ingredients:&nbsp\;kola nuts\, a source of&nbsp\;caffeine\, and&nbsp\;coca leaves. The current&nbsp\;formula of&nbsp\;The Texas Governor&nbsp\;remains a&nbsp\;trade secret\, although a variety of experimental recreations have been published.
LOCATION:3S Artspace 319 Vaughan Street\, Portsmouth
UID:e.1659.17880
SEQUENCE:3
DTSTAMP:20260420T150030Z
URL:https://business.portsmouthchamber.org/events/details/the-snails-mems-of-future-islands-w-the-texas-governor-03-07-2016-17880
END:VEVENT

END:VCALENDAR
