BEGIN:VCALENDAR
VERSION:2.0
PRODID:-//ChamberMaster//Event Calendar 2.0//EN
METHOD:PUBLISH
X-PUBLISHED-TTL:P3D
REFRESH-INTERVAL:P3D
CALSCALE:GREGORIAN
BEGIN:VEVENT
DTSTART:20140308T190000Z
DTEND:20140308T200000Z
X-MICROSOFT-CDO-ALLDAYEVENT:FALSE
SUMMARY:The YoYo Show
DESCRIPTION:Saturday 8 March at 2pm\, Pontine Theatre presents John & Rebecca Higby in THE YOYO SHOW.  High skill and deft timing to swingin' music coupled with high energy and sarcastic humor make THE YOYO SHOW a favorite for every age. John Higby holds a Guinness World Record\, a YoYo World Champion title\, and has performed in over 20 countries.  Tickets are $12 and may be purchased in advance online. Tickets may also be purchased at the door (cash & checks only) a half-hour prior to the performance\, based on availability. Purchase a special hand-painted YoYo (created by John Higby) at the show and stay for a half-hour workshop.   Pontine's West End Studio Theatre is located at 959 Islington Street\, Portsmouth NH. The building is not visible from the street. Look for the big 959 on the signpost at the head of the drive.
X-ALT-DESC;FMTTYPE=text/html:Saturday 8 March at 2pm\, Pontine Theatre presents John &amp\; Rebecca Higby in THE YOYO SHOW. &nbsp\;High skill and deft timing to swingin&#39\; music coupled with high energy and sarcastic humor make THE YOYO SHOW a favorite for every age. John Higby holds a Guinness World Record\, a YoYo World Champion title\, and has performed in over 20 countries.&nbsp\; Tickets are $12 and may be purchased in advance online. Tickets may also be purchased at the door (cash &amp\; checks only) a half-hour prior to the performance\, based on availability. Purchase a special hand-painted YoYo (created by John Higby) at the show and stay for a half-hour workshop. &nbsp\; Pontine&#39\;s West End Studio Theatre is located at 959 Islington Street\, Portsmouth NH. The building is not visible from the street. Look for the big 959 on the signpost at the head of the drive.
LOCATION:Pontine's West End Studio Theatre 959 Islington Street Portsmouth NH 03801
UID:e.1659.1424
SEQUENCE:3
DTSTAMP:20260420T002029Z
URL:https://business.portsmouthchamber.org/events/details/the-yoyo-show-03-08-2014-1424
END:VEVENT

END:VCALENDAR
