BEGIN:VCALENDAR
VERSION:2.0
PRODID:-//ChamberMaster//Event Calendar 2.0//EN
METHOD:PUBLISH
X-PUBLISHED-TTL:P3D
REFRESH-INTERVAL:P3D
CALSCALE:GREGORIAN
BEGIN:VEVENT
DTSTART:20170511T230000Z
DTEND:20170512T020000Z
X-MICROSOFT-CDO-ALLDAYEVENT:FALSE
SUMMARY:Three Chimneys Inn presents: Bliss for a Hit The Decks event!
DESCRIPTION:Join Three Chimneys Inn on the Terrace at Three Chimneys Inn for Charcuterie and Chardonnay\, as part of the Hit The Decks celebration.\n\n\n\nHear the  local artists from Bliss. Performing from 7:00-10:00 pm.
X-ALT-DESC;FMTTYPE=text/html:Join Three Chimneys Inn on the Terrace at Three Chimneys Inn for Charcuterie and Chardonnay\, as part of the Hit The Decks celebration.<br />\n<br />\nHear the &nbsp\;local artists from Bliss. Performing from 7:00-10:00 pm.
LOCATION:Three Chimenys Inn 17 New Market RD Durham NH 03824
UID:e.1659.30956
SEQUENCE:3
DTSTAMP:20260421T115402Z
URL:https://business.portsmouthchamber.org/events/details/three-chimneys-inn-presents-bliss-for-a-hit-the-decks-event-30956
END:VEVENT

END:VCALENDAR
