BEGIN:VCALENDAR
VERSION:2.0
PRODID:-//ChamberMaster//Event Calendar 2.0//EN
METHOD:PUBLISH
X-PUBLISHED-TTL:P3D
REFRESH-INTERVAL:P3D
CALSCALE:GREGORIAN
BEGIN:VEVENT
DTSTART:20170317T150000Z
DTEND:20170318T010000Z
X-MICROSOFT-CDO-ALLDAYEVENT:FALSE
SUMMARY:Throwback Brewery celebrate Saint Patrick's Day with limited edition brews and live music!
DESCRIPTION:Join Throwback Brewery for a fun day of limited edition lucky brews including our popular Vanilla Irish Stout\, delicious beer cocktails and food specials as well as a live Irish Session.\n\n\n\nEnjoy authentic Irish session with five local musicians!
X-ALT-DESC;FMTTYPE=text/html:Join Throwback Brewery&nbsp\;for a fun day of limited edition lucky brews including our popular Vanilla Irish Stout\, delicious beer cocktails and food specials as well as a live Irish Session.<br />\n<br />\nEnjoy authentic Irish session with five local musicians!
LOCATION:Throwback Brewery 7 Hobbs Rd. North Hampton\, NH
UID:e.1659.30020
SEQUENCE:3
DTSTAMP:20260421T163949Z
URL:https://business.portsmouthchamber.org/events/details/throwback-brewery-celebrate-saint-patrick-s-day-with-limited-edition-brews-and-live-music-30020
END:VEVENT

END:VCALENDAR
