BEGIN:VCALENDAR
VERSION:2.0
PRODID:-//ChamberMaster//Event Calendar 2.0//EN
METHOD:PUBLISH
X-PUBLISHED-TTL:P3D
REFRESH-INTERVAL:P3D
CALSCALE:GREGORIAN
BEGIN:VEVENT
DTSTART;VALUE=DATE:20170224
DTEND;VALUE=DATE:20170225
TRANSP:TRANSPARENT
X-MICROSOFT-CDO-ALLDAYEVENT:TRUE
SUMMARY:Throwback Brewery celebrates International Women's Day Collaboration Beer on Tap
DESCRIPTION:All Week: International Women's Day Collaboration Beer on Tap at Throwback\n\nWe're excited to share that Brewers Cheryl and Annette will be participating in a collaboration amongst local women brewers starting on Galentine's Day (2/13)\, along with colleagues from Garrison City in Dover and Smuttlabs and Portsmouth Brewery of Portsmouth. Exclusively for Portsmouth Beer Week\, Throwback will be offering this limited edition kettle soured saison on tap here at the brewery. Can release is slated for International Women's Day on March 8th.
X-ALT-DESC;FMTTYPE=text/html:<strong>All Week: International Women&rsquo\;s Day Collaboration Beer on Tap at Throwback</strong><br />\nWe&rsquo\;re excited to share that Brewers Cheryl and Annette will be participating in a collaboration amongst local women brewers starting on Galentine&rsquo\;s Day (2/13)\, along with colleagues from Garrison City in Dover and Smuttlabs and Portsmouth Brewery of Portsmouth. Exclusively for Portsmouth Beer Week\, Throwback will be offering this limited edition kettle soured saison on tap here at the brewery. Can release is slated for International Women&rsquo\;s Day on March 8th.
LOCATION:Throwback Brewery 7 Hobbs Rd North Hampton\, NH
UID:e.1659.30027
SEQUENCE:3
DTSTAMP:20260421T182515Z
URL:https://business.portsmouthchamber.org/events/details/throwback-brewery-celebrates-international-women-s-day-collaboration-beer-on-tap-30027
END:VEVENT

END:VCALENDAR
