BEGIN:VCALENDAR
VERSION:2.0
PRODID:-//ChamberMaster//Event Calendar 2.0//EN
METHOD:PUBLISH
X-PUBLISHED-TTL:P3D
REFRESH-INTERVAL:P3D
CALSCALE:GREGORIAN
BEGIN:VEVENT
DTSTART:20170303T170000Z
DTEND:20170304T020000Z
X-MICROSOFT-CDO-ALLDAYEVENT:FALSE
SUMMARY:Throwback Brewery Fromage Friday
DESCRIPTION:All day Friday for a Portsmouth Beer Week version of our Fromage Friday.
X-ALT-DESC;FMTTYPE=text/html:All day Friday for a Portsmouth Beer Week version of our Fromage Friday.
LOCATION:Throwback Brewery 7 Hobbs Rd. North Hampton\, NH
UID:e.1659.30038
SEQUENCE:3
DTSTAMP:20260421T150553Z
URL:https://business.portsmouthchamber.org/events/details/throwback-brewery-fromage-friday-30038
END:VEVENT

END:VCALENDAR
