BEGIN:VCALENDAR
VERSION:2.0
PRODID:-//ChamberMaster//Event Calendar 2.0//EN
METHOD:PUBLISH
X-PUBLISHED-TTL:P3D
REFRESH-INTERVAL:P3D
CALSCALE:GREGORIAN
BEGIN:VEVENT
DTSTART:20170226T170000Z
DTEND:20170226T170000Z
X-MICROSOFT-CDO-ALLDAYEVENT:FALSE
SUMMARY:Throwback Brewery kicks off Portsmouth Beer Week
DESCRIPTION:Portsmouth Beer Week 'Beers & Bites' Chef's Whim and Beer Pairing Event\n\n\n\nTo kick off Portsmouth Beer Week\, Throwback Brewery will be offering a special menu all day of hand crafted Chef's whim hors d'oeuvres paired with several of our craft beers.
X-ALT-DESC;FMTTYPE=text/html:<strong>Portsmouth Beer Week &#39\;Beers &amp\; Bites&#39\; Chef&#39\;s Whim and Beer Pairing Event</strong><br />\n<br />\nTo kick off Portsmouth Beer Week\, Throwback Brewery will be offering a special menu all day of hand crafted Chef&#39\;s whim hors d&#39\;oeuvres paired with several of our craft beers.&nbsp\;
LOCATION:Throwback Brewer 7 Hobbs Rd. North Hampton\, NH
UID:e.1659.30015
SEQUENCE:3
DTSTAMP:20260421T163932Z
URL:https://business.portsmouthchamber.org/events/details/throwback-brewery-kicks-off-portsmouth-beer-week-30015
END:VEVENT

END:VCALENDAR
