BEGIN:VCALENDAR
VERSION:2.0
PRODID:-//ChamberMaster//Event Calendar 2.0//EN
METHOD:PUBLISH
X-PUBLISHED-TTL:P3D
REFRESH-INTERVAL:P3D
CALSCALE:GREGORIAN
BEGIN:VEVENT
DTSTART:20170309T000000Z
DTEND:20170309T020000Z
X-MICROSOFT-CDO-ALLDAYEVENT:FALSE
SUMMARY:Throwback Brewery presents Live Acoustic Music with Me & My Uncle
DESCRIPTION:Join Throwback Brewery for some jammin Grateful Dead cover tunes plus other songs you forget you loved with Me & My Uncle.
X-ALT-DESC;FMTTYPE=text/html:Join Throwback Brewery&nbsp\;for some jammin Grateful Dead cover tunes plus other songs you forget you loved with Me &amp\; My Uncle.
LOCATION:Throwback Brewery 7 Hobbs Rd North Hampton\, NH
UID:e.1659.30019
SEQUENCE:3
DTSTAMP:20260421T151116Z
URL:https://business.portsmouthchamber.org/events/details/throwback-brewery-presents-live-acoustic-music-with-me-my-uncle-30019
END:VEVENT

END:VCALENDAR
