BEGIN:VCALENDAR
VERSION:2.0
PRODID:-//ChamberMaster//Event Calendar 2.0//EN
METHOD:PUBLISH
X-PUBLISHED-TTL:P3D
REFRESH-INTERVAL:P3D
CALSCALE:GREGORIAN
BEGIN:VEVENT
DTSTART:20170326T160000Z
DTEND:20170326T200000Z
X-MICROSOFT-CDO-ALLDAYEVENT:FALSE
SUMMARY:Throwback Brewery's Maple Madness II
DESCRIPTION:Come experience maple beer\, lovingly crafted foods made with real maple syrup\, live music by The Kenny Brothers\, maple syrup samples\, and a live demonstration of how sap is turned into syrup. Bring the whole family to Throwback Brewery for this fun event hosted by Syrup by the Sea!\n\n\n\nNew this year\, we'll have even more maple beers:\n\n\n\nIn addition to our classic Maple-Kissed Wheat Porter\, we will be offering Maple-Kissed Wheat Porter with Blueberries\, Chipotle Maple Dippity Do (American Brown)\, and a 'Banana Foster' Hefeweizen made with maple syrup and served via cask. Come grab a sample tray of all four.\n\n\n\nMarch is Maple Month and this is NH's statewide Maple Madness Weekend - don't miss out!
X-ALT-DESC;FMTTYPE=text/html:Come experience maple beer\, lovingly crafted foods made with real maple syrup\, live music by <a href="http://www.kennybrothersband.com">The Kenny Brothers</a>\, maple syrup samples\, and a live demonstration of how sap is turned into syrup. Bring the whole family to Throwback Brewery for this fun event hosted&nbsp\;by <a href="https://www.syrupbythesea.com">Syrup by the Sea</a>!<br />\n<br />\nNew this year\, we&#39\;ll have even more maple beers:<br />\n<br />\nIn addition to our classic Maple-Kissed Wheat Porter\, we will be offering Maple-Kissed Wheat Porter with Blueberries\, Chipotle Maple Dippity Do (American Brown)\, and a &#39\;Banana Foster&#39\; Hefeweizen made with maple syrup and served via cask. Come grab a sample tray of all four.<br />\n<br />\nMarch is Maple Month and this is NH&#39\;s statewide Maple Madness Weekend - don&#39\;t miss out!
LOCATION:Throwback Brewery 7 Hobbs Road North Hampton\, NH 03862
UID:e.1659.30277
SEQUENCE:3
DTSTAMP:20260421T163418Z
URL:https://business.portsmouthchamber.org/events/details/throwback-brewery-s-maple-madness-ii-30277
END:VEVENT

END:VCALENDAR
