BEGIN:VCALENDAR
VERSION:2.0
PRODID:-//ChamberMaster//Event Calendar 2.0//EN
METHOD:PUBLISH
X-PUBLISHED-TTL:P3D
REFRESH-INTERVAL:P3D
CALSCALE:GREGORIAN
BEGIN:VEVENT
DTSTART:20170312T150000Z
DTEND:20170312T160000Z
X-MICROSOFT-CDO-ALLDAYEVENT:FALSE
SUMMARY:Throwback Brewery's Sunday Yoga
DESCRIPTION:All levels are welcome to participate! Instructor Laurel will cater to both beginners while offering more challenging poses for the more advanced students. \n\n\n\nThrowback is lucky to have the talented Laurel Crawford as our instructor. Laurel has more than 15 years of teaching experience under her mat and will cater her lessons to beginners and experienced yogis alike!\n\n\n\nMake the most of your Sundays by really stretching out the weekend- with Yoga at Throwback!\n\n\n\nThe Pub will be open for food and drinks after lessons for those of you wanting some nibbles or needing to quench your thirst.\n\n\n\nHope to see you all there! Namaste.
X-ALT-DESC;FMTTYPE=text/html:All levels are welcome to participate! Instructor Laurel will cater to both beginners while offering more challenging poses for the more advanced students.&nbsp\;<br />\n<br />\nThrowback is lucky to have the talented Laurel Crawford as our instructor. Laurel has more than 15 years of teaching experience under her mat and will cater her lessons to beginners and experienced yogis alike!<br />\n<br />\nMake the most of your Sundays by really stretching out the weekend- with Yoga at Throwback!<br />\n<br />\nThe Pub will be open for food and drinks after lessons for those of you wanting some nibbles or needing to quench your thirst.<br />\n<br />\nHope to see you all there! Namaste.
LOCATION:Throwback Brewery 7 Hobbs Rd. North Hampton\, NH
UID:e.1659.30013
SEQUENCE:3
DTSTAMP:20260421T150859Z
URL:https://business.portsmouthchamber.org/events/details/throwback-brewery-s-sunday-yoga-03-12-2017-30013
END:VEVENT

END:VCALENDAR
