BEGIN:VCALENDAR
VERSION:2.0
PRODID:-//ChamberMaster//Event Calendar 2.0//EN
METHOD:PUBLISH
X-PUBLISHED-TTL:P3D
REFRESH-INTERVAL:P3D
CALSCALE:GREGORIAN
BEGIN:VEVENT
DTSTART:20170302T233000Z
DTEND:20170303T030000Z
X-MICROSOFT-CDO-ALLDAYEVENT:FALSE
SUMMARY:Throwback Brewery Throwback to the Roaring 20's Cask Takeover
DESCRIPTION:Join Throwback Brewery at the Coat of Arms Pub in Portsmouth for their annual Throwback Thursday event\, featuring special chef's items and a full Throwback Brewery cask takeover. \n\nOffering:\n\n\n	Hank's Pale Ale brewed with Idaho 7 Hops \n	Cheek Squeezer Kettle Soured Blonde Ale with Lime & Raspberry\n	Hammer Thyme Baltic Porter brewed with a Port Soaked French Oak Spiral-Donkey Hote Double IPA with 8 Different Types of South African Hops....plus a log of Fat Alberta!\n\n\n\nThis year's theme is Roaring 20s with prizes for best costume - so get decked out and come party with Throwback Brewery!
X-ALT-DESC;FMTTYPE=text/html:<p>Join Throwback Brewery at the Coat of Arms Pub in Portsmouth for their annual Throwback Thursday event\, featuring special chef&#39\;s items and a full Throwback Brewery cask takeover.&nbsp\;</p>\n\n<p>Offering:</p>\n\n<ul>\n	<li>Hank&#39\;s Pale Ale brewed with Idaho 7 Hops&nbsp\;</li>\n	<li>Cheek Squeezer Kettle Soured Blonde Ale with Lime &amp\; Raspberry</li>\n	<li>Hammer Thyme Baltic Porter brewed with a Port Soaked French Oak Spiral-Donkey Hote Double IPA with 8 Different Types of South African Hops....plus a log of Fat Alberta!</li>\n</ul>\n<br />\nThis year&#39\;s theme is Roaring 20s with prizes for best costume - so get decked out and come party with Throwback Brewery!
LOCATION:Coat of Arms 174 Fleet St\, Portsmouth
UID:e.1659.30017
SEQUENCE:3
DTSTAMP:20260421T163529Z
URL:https://business.portsmouthchamber.org/events/details/throwback-brewery-throwback-to-the-roaring-20-s-cask-takeover-30017
END:VEVENT

END:VCALENDAR
