BEGIN:VCALENDAR
VERSION:2.0
PRODID:-//ChamberMaster//Event Calendar 2.0//EN
METHOD:PUBLISH
X-PUBLISHED-TTL:P3D
REFRESH-INTERVAL:P3D
CALSCALE:GREGORIAN
BEGIN:VEVENT
DTSTART;VALUE=DATE:20130801
DTEND;VALUE=DATE:20130802
TRANSP:TRANSPARENT
X-MICROSOFT-CDO-ALLDAYEVENT:TRUE
SUMMARY:Thunder Chicken
DESCRIPTION:The Portsmouth Community Road Race Series (PCRRS) underwritten by Portsmouth Regional Hospital\, is a succession of road races aimed at the cultivation of the health and well-being of the Greater Portsmouth Community.\n\n\n\nThe goal of the series is to attract individuals\, families\, and groups who enjoy participating in community events (not just competitive races).
X-ALT-DESC;FMTTYPE=text/html:The Portsmouth Community Road Race Series (PCRRS) underwritten by Portsmouth Regional Hospital\, is a succession of road races aimed at the cultivation of the health and well-being of the Greater Portsmouth Community.<br />\n<br />\nThe goal of the series is to attract individuals\, families\, and groups who enjoy participating in community events (not just competitive races).&nbsp\;
LOCATION:Rotary Club of Portsmouth
UID:e.1659.518
SEQUENCE:3
DTSTAMP:20260420T095516Z
URL:https://business.portsmouthchamber.org/events/details/thunder-chicken-08-01-2013-518
END:VEVENT

END:VCALENDAR
