BEGIN:VCALENDAR
VERSION:2.0
PRODID:-//ChamberMaster//Event Calendar 2.0//EN
METHOD:PUBLISH
X-PUBLISHED-TTL:P3D
REFRESH-INTERVAL:P3D
CALSCALE:GREGORIAN
BEGIN:VEVENT
DTSTART:20170302T000000Z
DTEND:20170302T020000Z
X-MICROSOFT-CDO-ALLDAYEVENT:FALSE
SUMMARY:TJ'S Food and Spirits host East Coast Meets West Coast (Portsmouth Beer Week event)
DESCRIPTION:Stop by TJ's to enjoy 12 different styles of American Craft Beer at its best! Starting at 7:00 PM reps will be on hand talking about the styles and what makes them unique. Flights will be available so bring your thirst!\n\n	Sam Adams   Leech Pear\n	Smuttynose   East Coast Common\n	Ipswich   Oatmeal Stout\n	Two Roads   TBD\n	Stone   Ripper Pale Ale\n	Bad Lab   Belgian Witte Bier\n	Great Rhythm   Tropical Haze IPA\n	Banded Horn   Daikaiju   Double IPA\n	Moat Mountain   Single Speed I.P.L.\n	And More!
X-ALT-DESC;FMTTYPE=text/html:Stop by TJ&rsquo\;s to enjoy 12 different styles of American Craft Beer at its best! Starting at 7:00 PM reps will be on hand talking about the styles and what makes them unique. Flights will be available so bring your thirst!\n<ul>\n	<li>Sam Adams &ndash\; Leech Pear</li>\n	<li>Smuttynose &ndash\; East Coast Common</li>\n	<li>Ipswich &ndash\; Oatmeal Stout</li>\n	<li>Two Roads &ndash\; TBD</li>\n	<li>Stone &ndash\; Ripper Pale Ale</li>\n	<li>Bad Lab &ndash\; Belgian Witte Bier</li>\n	<li>Great Rhythm &ndash\; Tropical Haze IPA</li>\n	<li>Banded Horn &ndash\; Daikaiju &ndash\; Double IPA</li>\n	<li>Moat Mountain &ndash\; Single Speed I.P.L.</li>\n	<li>And More!</li>\n</ul>\n
LOCATION:Tj's Food and Spirits 54 Daniel St\, Portsmouth
UID:e.1659.30034
SEQUENCE:3
DTSTAMP:20260421T151746Z
URL:https://business.portsmouthchamber.org/events/details/tj-s-food-and-spirits-host-east-coast-meets-west-coast-portsmouth-beer-week-event-30034
END:VEVENT

END:VCALENDAR
