BEGIN:VCALENDAR
VERSION:2.0
PRODID:-//ChamberMaster//Event Calendar 2.0//EN
METHOD:PUBLISH
X-PUBLISHED-TTL:P3D
REFRESH-INTERVAL:P3D
CALSCALE:GREGORIAN
BEGIN:VEVENT
DTSTART:20150224T133000Z
DTEND:20150224T170000Z
X-MICROSOFT-CDO-ALLDAYEVENT:FALSE
SUMMARY:Tourism Summit
DESCRIPTION:Hospitality Businesses:  Take this opportunity to learn about how the work you do positively impacts the economy of the Seacoast and the State of New Hampshire.  Learn how the tourism community impacts the local economy.  Understand current trends and marketing initiatives through the Chamber\, the State and the Region.  Contribute to the workshop session where you will brainstorm in small groups to help set marketing priorities for the Chamber.  \n\n \n\nPLEASE NOTE:  The Tourism Summit on February 24th will take the place of the March 4th Tourism Committee meeting\, regularly scheduled for the first Wednesday of every month.  There will be no Tourism Committee meeting on March 4th.
X-ALT-DESC;FMTTYPE=text/html:<span style="font-family:century gothic\;">Hospitality Businesses:&nbsp\; Take this opportunity to learn about how the work <strong>you</strong> do positively impacts the economy of the Seacoast and the State of New Hampshire.&nbsp\; Learn how the tourism community impacts the local economy.&nbsp\; Understand current trends and marketing initiatives through the Chamber\, the State and the Region.&nbsp\; Contribute to the workshop session where you will brainstorm in small groups to help set marketing priorities for the Chamber.&nbsp\; </span><br />\n&nbsp\;<br />\n<span style="font-family:century gothic\;">PLEASE NOTE:&nbsp\; The Tourism Summit on February <sup>24th</sup> will take the place of the March 4<sup>th</sup> Tourism Committee meeting\, regularly scheduled for the first Wednesday of every month.&nbsp\; There will be no Tourism Committee meeting on March <sup>4th</sup>.</span>
LOCATION:Portsmouth Harbor Events & Conference Center\, Portwalk Place\, Portsmouth\, NH
UID:e.1659.1191
SEQUENCE:3
DTSTAMP:20260421T102146Z
URL:https://business.portsmouthchamber.org/events/details/tourism-summit-02-24-2015-1191
END:VEVENT

END:VCALENDAR
