BEGIN:VCALENDAR
VERSION:2.0
PRODID:-//ChamberMaster//Event Calendar 2.0//EN
METHOD:PUBLISH
X-PUBLISHED-TTL:P3D
REFRESH-INTERVAL:P3D
CALSCALE:GREGORIAN
BEGIN:VEVENT
DTSTART:20140422T160000Z
DTEND:20140422T170000Z
X-MICROSOFT-CDO-ALLDAYEVENT:FALSE
SUMMARY:Unified Office Communications "Lunch & Learn" for Chamber Businesses
DESCRIPTION:Please join Unified Office at the Greater Portsmouth Chamber of Commerce for an informative presentation that will help you not just cope with these changes but also gain competitive advantages in your marketplace by unifying small business communications and IT services. A great lunch will be provided!\n\n \n\nWhat You'll Learn\n\n - The new marketplace\, the mobile consumer behavior\, the virtualized workplace environment\, and the impact on today's business\n\n- The innovative communications services available from Unified Office\, Inc. a pioneer in secure\, hybrid private-cloud virtualized office communications solutions\n\n \n\n  \n\nOverview\n\nSmall business owners must focus on their core competencies to ensure success\, with sharp focus on customer service excellence and rapid response. New communications technologies are proving to increase customer satisfaction\, while traditional business telephone systems no longer support or can cope with the day-to-day interactions with a highly mobilized and Internet-savvy clientele. Partnering with an ally who understands small business\, its customers\, and with specialized expertise in the latest technology\, allows the business owner to realize tangible benefits of new communications services in the form of increased revenues\, productivity and profitability.
X-ALT-DESC;FMTTYPE=text/html:Please join Unified Office at the Greater Portsmouth Chamber of Commerce for an informative presentation that will help you not just cope with these changes but also gain competitive advantages in your marketplace by unifying small business communications and IT services. A great lunch will be provided!<br />\n&nbsp\;<br />\n<strong>What You&#39\;ll Learn</strong><br />\n&nbsp\;- The new marketplace\, the mobile consumer behavior\, the virtualized workplace environment\, and the impact on today&rsquo\;s business<br />\n<font face="monotype sorts">-&nbsp\;</font>The innovative communications services available from Unified Office\, Inc. a pioneer in secure\, hybrid private-cloud virtualized office communications solutions<br />\n&nbsp\;<br />\n&nbsp\;&nbsp\;<br />\n<strong>Overview</strong><br />\nSmall business owners must focus on their core competencies to ensure success\, with sharp focus on customer service excellence and rapid response. New communications technologies are proving to increase customer satisfaction\, while traditional business telephone systems no longer support or can cope with the day-to-day interactions with a highly mobilized and Internet-savvy clientele. Partnering with an ally who understands small business\, its customers\, and with specialized expertise in the latest technology\, allows the business owner to realize tangible benefits of new communications services in the form of increased revenues\, productivity and profitability.
LOCATION:Greater Portsmouth Chamber of Commerce Conference Room 500 Market Street in Portsmouth
UID:e.1659.1482
SEQUENCE:3
DTSTAMP:20260419T231440Z
URL:https://business.portsmouthchamber.org/events/details/unified-office-communications-lunch-learn-for-chamber-businesses-04-22-2014-1482
END:VEVENT

END:VCALENDAR
