BEGIN:VCALENDAR
VERSION:2.0
PRODID:-//ChamberMaster//Event Calendar 2.0//EN
METHOD:PUBLISH
X-PUBLISHED-TTL:P3D
REFRESH-INTERVAL:P3D
CALSCALE:GREGORIAN
BEGIN:VEVENT
DTSTART:20170505T210000Z
DTEND:20170506T000000Z
X-MICROSOFT-CDO-ALLDAYEVENT:FALSE
SUMMARY:Valerie’s Gallery to host Marsha Zavez for Art 'Round Town
DESCRIPTION:PORTSMOUTH\, NH: Valerie's Gallery in Portsmouth\, NH will be a participating in the city's upcoming ArtWalk by featuring a meet and greet event with local artist Marsha Zavez. The event will take place on Friday\, May 5 from 5-8 pm at the gallery\, located at 117 Market Street in Portsmouth\, NH. Marsha is an oil and acrylic painter as well as a middle school art and drama teacher. "Her work has such energy\, color and a little bit of whimsy and lightness to it." says Valerie Stainton\, gallery owner "I love to paint. There's something about taking a blank canvas or board and transforming it into an image that makes me happy. It's really as simple as that for me. Sometimes I choose to paint something because of the memory it evokes. Other times\, I just can't resist the color\, texture\, light\, or smile-inducing quality of the subject. In both my oil and acrylic works\, texture plays a large part\, and I use brushes\, palette knives and scrapers to create a lush feel with the paint. I find beauty in the goings-on around me. Whether it's a gull hanging out at the ocean\, my dog sleeping in the yard\, the sun shining just right on a house off the road\, surfers enjoying the waves\, or the scrumptious yellows of a lemon. I paint my world." About Valerie's Gallery - Valerie's Gallery is a art gallery and fine craft shop with two locations\, in Portsmouth\, NH and Newburyport\, MA. Since 2002\, it has showcased functional and decorative hand-crafted artful objects by 100 American artists\, mostly from New England\, featuring artisan jewelry\, functional pottery and original artwork by local artists. For more information\, please call 603-766-3737 or visit http://www.valeriesgalleries.com or http://www.facebook.com/valeriesgalleries.
X-ALT-DESC;FMTTYPE=text/html:PORTSMOUTH\, NH: Valerie&#39\;s Gallery in Portsmouth\, NH will be a participating in the city&rsquo\;s upcoming ArtWalk by featuring a meet and greet event with local artist Marsha Zavez. The event will take place on Friday\, May 5 from 5-8 pm at the gallery\, located at 117 Market Street in Portsmouth\, NH. Marsha is an oil and acrylic painter as well as a middle school art and drama teacher. &quot\;Her work has such energy\, color and a little bit of whimsy and lightness to it.&quot\; says Valerie Stainton\, gallery owner &quot\;I love to paint. There&#39\;s something about taking a blank canvas or board and transforming it into an image that makes me happy. It&#39\;s really as simple as that for me. Sometimes I choose to paint something because of the memory it evokes. Other times\, I just can&rsquo\;t resist the color\, texture\, light\, or smile-inducing quality of the subject. In both my oil and acrylic works\, texture plays a large part\, and I use brushes\, palette knives and scrapers to create a lush feel with the paint. I find beauty in the goings-on around me. Whether it&rsquo\;s a gull hanging out at the ocean\, my dog sleeping in the yard\, the sun shining just right on a house off the road\, surfers enjoying the waves\, or the scrumptious yellows of a lemon. I paint my world.&quot\; About Valerie&rsquo\;s Gallery - Valerie&#39\;s Gallery is a art gallery and fine craft shop with two locations\, in Portsmouth\, NH and Newburyport\, MA. Since 2002\, it has showcased functional and decorative hand-crafted artful objects by 100 American artists\, mostly from New England\, featuring artisan jewelry\, functional pottery and original artwork by local artists. For more information\, please call 603-766-3737 or visit http://www.valeriesgalleries.com or http://www.facebook.com/valeriesgalleries.
LOCATION:Valerie's Gallery\, 117 Market Street\, Portsmouth NH
UID:e.1659.30960
SEQUENCE:3
DTSTAMP:20260421T132437Z
URL:https://business.portsmouthchamber.org/events/details/valerie-s-gallery-to-host-marsha-zavez-for-art-round-town-30960
END:VEVENT

END:VCALENDAR
