BEGIN:VCALENDAR
VERSION:2.0
PRODID:-//ChamberMaster//Event Calendar 2.0//EN
METHOD:PUBLISH
X-PUBLISHED-TTL:P3D
REFRESH-INTERVAL:P3D
CALSCALE:GREGORIAN
BEGIN:VEVENT
DTSTART;VALUE=DATE:20140906
DTEND;VALUE=DATE:20140907
TRANSP:TRANSPARENT
X-MICROSOFT-CDO-ALLDAYEVENT:TRUE
SUMMARY:Vintage & Vine
DESCRIPTION:Wine and Food tasting at Strawberry Banke Museum. \n\n	VIP Reserve Tasting\, 4:30-6 pm (only) \n	Grand Tasting & Wine Sale\, 4:30-7:30 pm\n	30 local restaurants and chefs\n	6 Star Chefs grilling at center stage
X-ALT-DESC;FMTTYPE=text/html:Wine and Food tasting at Strawberry Banke&nbsp\;Museum.&nbsp\;\n<ul>\n	<li style="font-family: Helvetica\, Arial\, FreeSans\, sans-serif\; font-size: 13px\; border: 0px none\; outline: 0px\; padding: 0px\; margin: 8px 0px\; color: rgb(68\, 68\, 68)\; line-height: 17.15999984741211px\; background-color: rgb(255\, 255\, 255)\;"><strong style="font-family: inherit\; font-style: inherit\; border: 0px none\; outline: 0px\; padding: 0px\; margin: 0px\;"><em style="font-weight: inherit\; font-family: inherit\; border: 0px none\; outline: 0px\; padding: 0px\; margin: 0px\;">VIP Reserve Tasting\, 4:30-6 pm (only)&nbsp\;</em></strong></li>\n	<li style="font-family: Helvetica\, Arial\, FreeSans\, sans-serif\; font-size: 13px\; border: 0px none\; outline: 0px\; padding: 0px\; margin: 8px 0px\; color: rgb(68\, 68\, 68)\; line-height: 17.15999984741211px\; background-color: rgb(255\, 255\, 255)\;"><strong style="font-family: inherit\; font-style: inherit\; border: 0px none\; outline: 0px\; padding: 0px\; margin: 0px\;"><em style="font-weight: inherit\; font-family: inherit\; border: 0px none\; outline: 0px\; padding: 0px\; margin: 0px\;">Grand Tasting &amp\; Wine Sale\, 4:30-7:30 pm</em></strong></li>\n	<li style="font-family: Helvetica\, Arial\, FreeSans\, sans-serif\; font-size: 13px\; border: 0px none\; outline: 0px\; padding: 0px\; margin: 8px 0px\; color: rgb(68\, 68\, 68)\; line-height: 17.15999984741211px\; background-color: rgb(255\, 255\, 255)\;"><strong style="font-family: inherit\; font-style: inherit\; border: 0px none\; outline: 0px\; padding: 0px\; margin: 0px\;"><em style="font-weight: inherit\; font-family: inherit\; border: 0px none\; outline: 0px\; padding: 0px\; margin: 0px\;">30 local restaurants and chefs</em></strong></li>\n	<li style="font-family: Helvetica\, Arial\, FreeSans\, sans-serif\; font-size: 13px\; border: 0px none\; outline: 0px\; padding: 0px\; margin: 8px 0px\; color: rgb(68\, 68\, 68)\; line-height: 17.15999984741211px\; background-color: rgb(255\, 255\, 255)\;"><strong style="font-family: inherit\; font-style: inherit\; border: 0px none\; outline: 0px\; padding: 0px\; margin: 0px\;"><em style="font-weight: inherit\; font-family: inherit\; border: 0px none\; outline: 0px\; padding: 0px\; margin: 0px\;">6&nbsp\;Star Chefs grilling at center stage</em></strong></li>\n</ul>\n
LOCATION:
UID:e.1659.2140
SEQUENCE:3
DTSTAMP:20260419T160810Z
URL:https://business.portsmouthchamber.org/events/details/vintage-vine-09-06-2014-2140
END:VEVENT

END:VCALENDAR
