BEGIN:VCALENDAR
VERSION:2.0
PRODID:-//ChamberMaster//Event Calendar 2.0//EN
METHOD:PUBLISH
X-PUBLISHED-TTL:P3D
REFRESH-INTERVAL:P3D
CALSCALE:GREGORIAN
BEGIN:VEVENT
DTSTART;VALUE=DATE:20140412
DTEND;VALUE=DATE:20140414
TRANSP:TRANSPARENT
X-MICROSOFT-CDO-ALLDAYEVENT:TRUE
SUMMARY:VIP Shopper Club Event
DESCRIPTION:Kittery Premiuim Outlets VIP Shopper Club members are invited to a two-day private shopping event featuring exclusive savings offers from merchants. Not a member? Join now at: www.premiumoutlets.com and click on VIP Club to participate in this event and get your exclusive coupons. There is never any cost and you will not get spammed. Savings are over and above every day outlet prices of 25-65% off regular prices.
X-ALT-DESC;FMTTYPE=text/html:<p class="MsoNormal" style="margin: 0in 0in 0pt"><span style="font-family: Arial"><font color="#000000"><font size="3">&nbsp\;Kittery Premiuim Outlets VIP Shopper Club members are invited to a two-day private shopping event featuring exclusive savings offers from merchants. Not a member? Join now at: www.premiumoutlets.com and click on VIP Club to participate in this event and get your exclusive coupons. There is never any cost and you will not get spammed. Savings are over and above every day outlet prices of 25-65% off regular prices.<o:p></o:p></font></font></span></p>\n\n<p class="MsoNormal" style="margin: 0in 0in 0pt"><b style="mso-bidi-font-weight: normal"><span style="font-family: Arial\; color: #3366ff\; mso-bidi-font-family: 'Times New Roman'"><o:p><font size="3">&nbsp\;</font></o:p></span></b></p>\n
LOCATION:375 US Route 1\, Kittery \, Maine 03904
UID:e.1659.1454
SEQUENCE:3
DTSTAMP:20260419T231307Z
URL:https://business.portsmouthchamber.org/events/details/vip-shopper-club-event-04-12-2014-1454
END:VEVENT

END:VCALENDAR
