BEGIN:VCALENDAR
VERSION:2.0
PRODID:-//ChamberMaster//Event Calendar 2.0//EN
METHOD:PUBLISH
X-PUBLISHED-TTL:P3D
REFRESH-INTERVAL:P3D
CALSCALE:GREGORIAN
BEGIN:VEVENT
DTSTART:20170507T180000Z
DTEND:20170507T200000Z
X-MICROSOFT-CDO-ALLDAYEVENT:FALSE
SUMMARY:Visit Discover Portsmouth for NH Furniture Masters PechaKucha-style: What Inspires Us?
DESCRIPTION:An Afternoon with the New Hampshire Furniture Masters PechaKucha-style: What Inspires Us? The New Hampshire Furniture Masters Association is a select group of artists devoted to fine design and craftsmanship. In this event\, several of the Masters will explore the inspiration and process behind their works in a fast-paced and concise format of 20 images x 20 seconds each. An event not to be missed by furniture makers and enthusiasts\, amateur and professional alike.
X-ALT-DESC;FMTTYPE=text/html:An Afternoon with the New Hampshire Furniture Masters PechaKucha-style: What Inspires Us? The New Hampshire Furniture Masters Association is a select group of artists devoted to fine design and craftsmanship. In this event\, several of the Masters will explore the inspiration and process behind their works in a fast-paced and concise format of 20 images x 20 seconds each. An event not to be missed by furniture makers and enthusiasts\, amateur and professional alike.
LOCATION:Discover Portsmouth 10 Middle St\, Portsmouth
UID:e.1659.30268
SEQUENCE:3
DTSTAMP:20260421T121833Z
URL:https://business.portsmouthchamber.org/events/details/visit-discover-portsmouth-for-nh-furniture-masters-pechakucha-style-what-inspires-us-30268
END:VEVENT

END:VCALENDAR
