BEGIN:VCALENDAR
VERSION:2.0
PRODID:-//ChamberMaster//Event Calendar 2.0//EN
METHOD:PUBLISH
X-PUBLISHED-TTL:P3D
REFRESH-INTERVAL:P3D
CALSCALE:GREGORIAN
BEGIN:VEVENT
DTSTART:20170518T213000Z
DTEND:20170518T223000Z
X-MICROSOFT-CDO-ALLDAYEVENT:FALSE
SUMMARY:Visit Discover Portsmouth for the "Collecting Portsmouth Furniture within a Changing Marketplace"
DESCRIPTION:Since the Bush recession of 2008 and even before\, the market value of much antique furniture has plummeted. What happened? Why did it happen? What does the future hold? Brock Jobe will bring his unparalleled knowledge of the field to bear on a review of the antiques scene of the past two decades and offer hope to those of us who collect or are simply interested in early American furniture\, especially from the Portsmouth area.
X-ALT-DESC;FMTTYPE=text/html:Since the Bush recession of 2008 and even before\, the market value of much antique furniture has plummeted. What happened? Why did it happen? What does the future hold? Brock Jobe will bring his unparalleled knowledge of the field to bear on a review of the antiques scene of the past two decades and offer hope to those of us who collect or are simply interested in early American furniture\, especially from the Portsmouth area.
LOCATION:Discover Portsmouth 10 Middle St\, Portsmouth
UID:e.1659.30269
SEQUENCE:3
DTSTAMP:20260421T122127Z
URL:https://business.portsmouthchamber.org/events/details/visit-discover-portsmouth-for-the-collecting-portsmouth-furniture-within-a-changing-marketplace-30269
END:VEVENT

END:VCALENDAR
