BEGIN:VCALENDAR
VERSION:2.0
PRODID:-//ChamberMaster//Event Calendar 2.0//EN
METHOD:PUBLISH
X-PUBLISHED-TTL:P3D
REFRESH-INTERVAL:P3D
CALSCALE:GREGORIAN
BEGIN:VEVENT
DTSTART:20170615T220000Z
DTEND:20170616T010000Z
X-MICROSOFT-CDO-ALLDAYEVENT:FALSE
SUMMARY:Visit Northeast Delta Dental Stadium for the Best of NH 2017
DESCRIPTION:Best of NH attendees can look forward to enjoying food and drink samples from more than 65 booths while enjoying a night outside at the ballpark listening to music\, live entertainment and ending the night with an amazing fireworks display. Plus\, you never know who might show up to the party. In the past\, Taylor Swift\, Steven Tyler and other celebs have popped in to toast NH's best businesses. One lucky attendee will win a 1-week\, all-inclusive vacation for four to Rockywold-Deephaven Camps on Squam Lake in Holderness\, NH.
X-ALT-DESC;FMTTYPE=text/html:Best of NH attendees can look forward to enjoying food and drink samples from more than 65 booths while enjoying a night outside at the ballpark listening to music\, live entertainment and ending the night with an amazing fireworks display. Plus\, you never know who might show up to the party. In the past\, Taylor Swift\, Steven Tyler and other celebs have popped in to toast NH&#39\;s best businesses. One lucky attendee will win a 1-week\, all-inclusive vacation for four to Rockywold-Deephaven Camps on Squam Lake in Holderness\, NH.
LOCATION:Northeast Delta Dental Stadium 1 Line Drive Manchester\, NH 03101
UID:e.1659.30265
SEQUENCE:3
DTSTAMP:20260419T135339Z
URL:https://business.portsmouthchamber.org/events/details/visit-northeast-delta-dental-stadium-for-the-best-of-nh-2017-30265
END:VEVENT

END:VCALENDAR
