BEGIN:VCALENDAR
VERSION:2.0
PRODID:-//ChamberMaster//Event Calendar 2.0//EN
METHOD:PUBLISH
X-PUBLISHED-TTL:P3D
REFRESH-INTERVAL:P3D
CALSCALE:GREGORIAN
BEGIN:VEVENT
DTSTART:20161204T220000Z
DTEND:20161205T020000Z
X-MICROSOFT-CDO-ALLDAYEVENT:FALSE
SUMMARY:Visit Strawbery Banke Museum for their 37th Annual Candlelight Stroll
DESCRIPTION:Visitors stroll from house to historic house\, greeted by costumed role players and performers who recreate the traditions of times past\, rediscovering the joys of simpler times. Mrs. Shapiro prepares a Hanukah celebration her 1919 Russian Jewish kitchen. Mrs. Goodwin\, her family and servants prepare a Victorian Christmas. Father Christmas\, the night watchman\, ?Mayor Frank Jones? and other role-players make their rounds along the dirt lanes\; and the Abbotts await news of their soldier fighting in Europe in the Second World War. Carolers\, chestnuts and holiday crafts bring all the sounds\, scents and moments for family 'stopfulness' to this event that is a cherished New Hampshire tradition. Complimentary refreshments and hot apple cider are offered at the Cider Shed. Traditional hearth-cooking demonstrations\, crafts demonstrations\, and winter projects for kids provide interactive fun for multiple generations.
X-ALT-DESC;FMTTYPE=text/html:Visitors stroll from house to historic house\, greeted by costumed role players and performers who recreate the traditions of times past\, rediscovering the joys of simpler times. Mrs. Shapiro prepares a Hanukah celebration her 1919 Russian Jewish kitchen. Mrs. Goodwin\, her family and servants prepare a Victorian Christmas. Father Christmas\, the night watchman\, ?Mayor Frank Jones? and other role-players make their rounds along the dirt lanes\; and the Abbotts await news of their soldier fighting in Europe in the Second World War. Carolers\, chestnuts and holiday crafts bring all the sounds\, scents and moments for family 'stopfulness' to this event that is a cherished New Hampshire tradition. Complimentary refreshments and hot apple cider are offered at the Cider Shed. Traditional hearth-cooking demonstrations\, crafts demonstrations\, and winter projects for kids provide interactive fun for multiple generations.
LOCATION:Strawbery Banke Museum 14 Hancock St.\, Portsmouth
UID:e.1659.27682
SEQUENCE:3
DTSTAMP:20260421T193045Z
URL:https://business.portsmouthchamber.org/events/details/visit-strawbery-banke-museum-for-their-37th-annual-candlelight-stroll-12-04-2016-27682
END:VEVENT

END:VCALENDAR
