BEGIN:VCALENDAR
VERSION:2.0
PRODID:-//ChamberMaster//Event Calendar 2.0//EN
METHOD:PUBLISH
X-PUBLISHED-TTL:P3D
REFRESH-INTERVAL:P3D
CALSCALE:GREGORIAN
BEGIN:VEVENT
DTSTART:20161104T230000Z
DTEND:20161105T013000Z
X-MICROSOFT-CDO-ALLDAYEVENT:FALSE
SUMMARY:Visit Wentworth by the Sea for Best of Taste Bash
DESCRIPTION:2016 winners from TASTE magazine's "Best of TASTE" edition\, bring their award winning food and cocktails for you to enjoy. Experience restaurateurs\, chefs\, caterers\, brewers\, bakers\, sommeliers\, chocolatiers\, and food professionals from over 80 Best of Taste categories.\n\n\n\nCome and bid on gift certificates to your favorite restaurants\, overnight stays\, specialty wines\, craft beer packages and exclusive spirits at the silent auction. A portion of all proceeds will be donated to the New Hampshire Food Bank.
X-ALT-DESC;FMTTYPE=text/html:2016 winners from TASTE magazine&#39\;s &quot\;Best of TASTE&quot\; edition\, bring their award winning food and cocktails for you to enjoy. Experience restaurateurs\, chefs\, caterers\, brewers\, bakers\, sommeliers\, chocolatiers\, and food professionals from over 80 Best of Taste categories.<br />\n<br />\nCome and bid on gift certificates to your favorite restaurants\, overnight stays\, specialty wines\, craft beer packages and exclusive spirits at the silent auction. A portion of all proceeds will be donated to the New Hampshire Food Bank.
LOCATION:Wentworth by the Sea 588 Wentworth Rd\, New Castle
UID:e.1659.25869
SEQUENCE:3
DTSTAMP:20260421T225344Z
URL:https://business.portsmouthchamber.org/events/details/visit-wentworth-by-the-sea-for-best-of-taste-bash-25869
END:VEVENT

END:VCALENDAR
