BEGIN:VCALENDAR
VERSION:2.0
PRODID:-//ChamberMaster//Event Calendar 2.0//EN
METHOD:PUBLISH
X-PUBLISHED-TTL:P3D
REFRESH-INTERVAL:P3D
CALSCALE:GREGORIAN
BEGIN:VEVENT
DTSTART:20170401T010000Z
DTEND:20170401T010000Z
X-MICROSOFT-CDO-ALLDAYEVENT:FALSE
SUMMARY:Wally's Pub welcomes Cash'd Out\, a Johnny Cash Tribute Band
DESCRIPTION:Join us for live music by the ultimate Johnny Cash tribute band\, Cash'd Out!
X-ALT-DESC;FMTTYPE=text/html:Join us for live music by the ultimate Johnny Cash tribute band\, Cash&#39\;d Out!
LOCATION:144 Ashworth Ave Hampton\, NH
UID:e.1659.30095
SEQUENCE:3
DTSTAMP:20260421T151601Z
URL:https://business.portsmouthchamber.org/events/details/wally-s-pub-welcomes-cash-d-out-a-johnny-cash-tribute-band-30095
END:VEVENT

END:VCALENDAR
