BEGIN:VCALENDAR
VERSION:2.0
PRODID:-//ChamberMaster//Event Calendar 2.0//EN
METHOD:PUBLISH
X-PUBLISHED-TTL:P3D
REFRESH-INTERVAL:P3D
CALSCALE:GREGORIAN
BEGIN:VEVENT
DTSTART:20170618T143000Z
DTEND:20170618T210000Z
X-MICROSOFT-CDO-ALLDAYEVENT:FALSE
SUMMARY:Water Country Celebrate Dads with FREE Admission
DESCRIPTION:Happy Father's Day! Water Country loves dads! So dad gets in free with the purchase of another ticket. In park only.
X-ALT-DESC;FMTTYPE=text/html:Happy Father&#39\;s Day! Water Country loves dads! So dad gets in free with the purchase of another ticket. In park only.
LOCATION:Water Country 23000 Lafayette Rd\, Portsmouth\, NH
UID:e.1659.31813
SEQUENCE:3
DTSTAMP:20260419T120634Z
URL:https://business.portsmouthchamber.org/events/details/water-country-celebrate-dads-with-free-admission-31813
END:VEVENT

END:VCALENDAR
