BEGIN:VCALENDAR
VERSION:2.0
PRODID:-//ChamberMaster//Event Calendar 2.0//EN
METHOD:PUBLISH
X-PUBLISHED-TTL:P3D
REFRESH-INTERVAL:P3D
CALSCALE:GREGORIAN
BEGIN:VEVENT
DTSTART:20161028T200000Z
DTEND:20161028T220000Z
X-MICROSOFT-CDO-ALLDAYEVENT:FALSE
SUMMARY:Waterstone Retail presents Trick or Treat at Portsmouth Green
DESCRIPTION:Waterstone Retail presents Trick or Treat at Portsmouth Green\n\nStop by our stores to enjoy giveaways\, face painting\, & treats. Don't forget your costumes!
X-ALT-DESC;FMTTYPE=text/html:Waterstone&nbsp\;Retail presents&nbsp\;Trick or Treat at Portsmouth Green<br />\nStop by our stores to enjoy giveaways\, face&nbsp\;painting\, &amp\; treats. Don&#39\;t forget your costumes!&nbsp\;&nbsp\;&nbsp\;&nbsp\;
LOCATION:Portsmouth Green 2454 Lafayette Rd Portsmouth\, NH 03801
UID:e.1659.27689
SEQUENCE:3
DTSTAMP:20260421T225725Z
URL:https://business.portsmouthchamber.org/events/details/waterstone-retail-presents-trick-or-treat-at-portsmouth-green-27689
END:VEVENT

END:VCALENDAR
