BEGIN:VCALENDAR
VERSION:2.0
PRODID:-//ChamberMaster//Event Calendar 2.0//EN
METHOD:PUBLISH
X-PUBLISHED-TTL:P3D
REFRESH-INTERVAL:P3D
CALSCALE:GREGORIAN
BEGIN:VEVENT
DTSTART:20170210T220000Z
DTEND:20170211T030000Z
X-MICROSOFT-CDO-ALLDAYEVENT:FALSE
SUMMARY:Wentworth by the Sea- 2017 Winter Wine Festival
DESCRIPTION:This will be our 12th year bringing together the superb cuisine of the Wentworth's culinary team with winery representatives and their premium wines from around the globe amid the polished hospitality of our service staff in this grand setting on a little island\, off the coast of New Hampshire. \n\n \n\nFrom multi-course Grand Vintner's Dinners or a Big Tasting in the Grand Ballroom to weekday Flight Nights or Shell-Shocked\, in SALT's lounge to the lavish Bubbles and Jazz Brunches\, the common thread running throughout is always of excellence.
X-ALT-DESC;FMTTYPE=text/html:This will be our 12th year bringing together the superb cuisine of the Wentworth&rsquo\;s culinary team with winery representatives and their premium wines from around the globe amid the polished hospitality of our service staff in this grand setting on a little island\, off the coast of New Hampshire.&nbsp\;<br />\n&nbsp\;<br />\nFrom multi-course Grand Vintner&rsquo\;s Dinners or a Big Tasting in the Grand Ballroom to weekday Flight Nights or Shell-Shocked\, in SALT&rsquo\;s lounge to the lavish Bubbles and Jazz Brunches\, the common thread running throughout is always of excellence.&nbsp\;
LOCATION:Wentworth by the Sea 588 Wentworth Road New Castle\, NH
UID:e.1659.29628
SEQUENCE:3
DTSTAMP:20260421T164421Z
URL:https://business.portsmouthchamber.org/events/details/wentworth-by-the-sea-2017-winter-wine-festival-02-10-2017-29628
END:VEVENT

END:VCALENDAR
