BEGIN:VCALENDAR
VERSION:2.0
PRODID:-//ChamberMaster//Event Calendar 2.0//EN
METHOD:PUBLISH
X-PUBLISHED-TTL:P3D
REFRESH-INTERVAL:P3D
CALSCALE:GREGORIAN
BEGIN:VEVENT
DTSTART:20161102T220000Z
DTEND:20161103T000000Z
X-MICROSOFT-CDO-ALLDAYEVENT:FALSE
SUMMARY:Wentworth By the Sea Hotel host the Portsmouth Peace Treaty Forum: Revisiting the Trilateral Study: Russia Japan US
DESCRIPTION:The Portsmouth Peace Treaty Forum welcomes the return of Harvard's Graham Allison and The Brookings Institution's Fiona Hill for a program\, "Reconsidering the Trilateral Cooperation Study: Relationships Between Japan\, Russia and the US." A discussion of their research\, presented in a Portsmouth Peace Treaty Forum in 1995\, considers where Russia-Japan\, Russia-US and US-Japan relationships stand\, on the eve of the Presidential election. The free program also celebrates the 110th anniversary of Theodore Roosevelt's Nobel Peace Prize for orchestrating the Portsmouth Peace Treaty.
X-ALT-DESC;FMTTYPE=text/html:The Portsmouth Peace Treaty Forum welcomes the return of Harvard&#39\;s Graham Allison and The Brookings Institution&#39\;s Fiona Hill for a program\, &quot\;Reconsidering the Trilateral Cooperation Study: Relationships Between Japan\, Russia and the US.&quot\; A discussion of their research\, presented in a Portsmouth Peace Treaty Forum in 1995\, considers where Russia-Japan\, Russia-US and US-Japan relationships stand\, on the eve of the Presidential election. The free program also celebrates the 110th anniversary of Theodore Roosevelt&#39\;s Nobel Peace Prize for orchestrating the Portsmouth Peace Treaty.
LOCATION:Wentworth By the Sea Hotel 588 Wentworth Rd\, New Castle
UID:e.1659.27632
SEQUENCE:3
DTSTAMP:20260421T225832Z
URL:https://business.portsmouthchamber.org/events/details/wentworth-by-the-sea-hotel-host-the-portsmouth-peace-treaty-forum-revisiting-the-trilateral-study-russia-japan-us-27632
END:VEVENT

END:VCALENDAR
