BEGIN:VCALENDAR
VERSION:2.0
PRODID:-//ChamberMaster//Event Calendar 2.0//EN
METHOD:PUBLISH
X-PUBLISHED-TTL:P3D
REFRESH-INTERVAL:P3D
CALSCALE:GREGORIAN
BEGIN:VEVENT
DTSTART:20161109T200000Z
DTEND:20161110T000000Z
X-MICROSOFT-CDO-ALLDAYEVENT:FALSE
SUMMARY:Wentworth Douglass at Pease Open House and Ribbon Cutting
DESCRIPTION:TRUST IN THE FINEST CARE\n\nThe same expert care Wentworth-Douglass Hospital is known for   is now coming to Portsmouth.  Get a sneak preview of the services   walk-in\, primary care and specialty services at our Open House event\, filled with great food\, fun\, tours and raffles!  Learn more at GetBetterAtPease.com.
X-ALT-DESC;FMTTYPE=text/html:<div style="color: rgb(33\, 33\, 33)\; font-family: wf_segoe-ui_normal\, 'Segoe UI'\, 'Segoe WP'\, Tahoma\, Arial\, sans-serif\; font-size: 15px\; margin: 0px\; background-color: rgb(255\, 255\, 255)\;"><span style="font-size:14.0pt\;">TRUST IN THE FINEST CARE</span><br />\n<span style="font-size:14.0pt\;">The same expert care Wentworth-Douglass Hospital is known for &ndash\; is now coming to Portsmouth.&nbsp\; Get a sneak preview of the services &ndash\; walk-in\, primary care and specialty services at our Open House event\, filled with great food\, fun\, tours and raffles!&nbsp\; Learn more at GetBetterAtPease.com.</span><br />\n&nbsp\;</div>\n
LOCATION:73 Corporate Drive Pease Tradeport Portsmouth NH 03801
UID:e.1659.27955
SEQUENCE:3
DTSTAMP:20260421T225533Z
URL:https://business.portsmouthchamber.org/events/details/wentworth-douglass-at-pease-open-house-and-ribbon-cutting-27955
END:VEVENT

END:VCALENDAR
