BEGIN:VCALENDAR
VERSION:2.0
PRODID:-//ChamberMaster//Event Calendar 2.0//EN
METHOD:PUBLISH
X-PUBLISHED-TTL:P3D
REFRESH-INTERVAL:P3D
CALSCALE:GREGORIAN
BEGIN:VEVENT
DTSTART:20200126T200000Z
DTEND:20200126T210000Z
X-MICROSOFT-CDO-ALLDAYEVENT:FALSE
SUMMARY:West End Master Series
DESCRIPTION:Maine College of Art professor Adriane Herman will present her talk "Witness the Power of Witnessing". Maine College of Art Professor\, Adriane Herman will present her talk\, "Witness the Power of Witnessing." Herman studies "accumulation and release in our physical and emotional landscapes." She will talk about her work and projects\, and the power of witnessing to facilitate letting go. Adriane Herman studies accumulation and release in our physical and emotional landscapes.
X-ALT-DESC;FMTTYPE=text/html:Maine College of Art professor Adriane Herman will present her talk &quot\;Witness the Power of Witnessing&quot\;. Maine College of Art Professor\, Adriane Herman will present her talk\, &quot\;Witness the Power of Witnessing.&quot\; Herman studies &quot\;accumulation and release in our physical and emotional landscapes.&quot\; She will talk about her work and projects\, and the power of witnessing to facilitate letting go. Adriane Herman studies accumulation and release in our physical and emotional landscapes.
LOCATION:portsmouth music and arts center 973 Islington St Portsmouth\, NH 03801
UID:e.1659.50738
SEQUENCE:3
DTSTAMP:20260421T084454Z
URL:https://business.portsmouthchamber.org/events/details/west-end-master-series-50738
END:VEVENT

END:VCALENDAR
