BEGIN:VCALENDAR
VERSION:2.0
PRODID:-//ChamberMaster//Event Calendar 2.0//EN
METHOD:PUBLISH
X-PUBLISHED-TTL:P3D
REFRESH-INTERVAL:P3D
CALSCALE:GREGORIAN
BEGIN:VEVENT
DTSTART:20160116T000000Z
DTEND:20160116T020000Z
X-MICROSOFT-CDO-ALLDAYEVENT:FALSE
SUMMARY:Wildcard Movies @ The Historic Theater - Bob and the Trees
DESCRIPTION:It is deep winter in rural Massachusetts. Bob\, a fifty-something year-old logger with a soft spot for golf and gangsta rap struggles to make ends meet in a changed economy. When a beloved cow of his gets wounded and a job goes awry\, Bob begins to heed the instincts of his ever-darkening self. Post-film talk and Q&A with special guests\, stars Bob Tarasuk and (Smuttynose Head Brewer) Matt Gallagher\, plus others.
X-ALT-DESC;FMTTYPE=text/html:<span style="color: rgb(102\, 102\, 102)\; font-family: 'Droid Sans'\, 'Lucida Grande'\, Arial\, sans-serif\; font-size: 16.8px\; line-height: 26.4px\;">It is deep winter in rural Massachusetts. Bob\, a fifty-something year-old logger with a soft spot for golf and gangsta rap struggles to make ends meet in a changed economy. When a beloved cow of his gets wounded and a job goes awry\, Bob begins to heed the instincts of his ever-darkening self. Post-film talk and Q&amp\;A with special guests\, stars Bob Tarasuk and (Smuttynose Head Brewer) Matt Gallagher\, plus others.</span>
LOCATION:The Music Hall 28 Chestnut Street\, Portsmouth
UID:e.1659.13636
SEQUENCE:3
DTSTAMP:20260422T135504Z
URL:https://business.portsmouthchamber.org/events/details/wildcard-movies-the-historic-theater-bob-and-the-trees-01-15-2016-13636
END:VEVENT

END:VCALENDAR
