BEGIN:VCALENDAR
VERSION:2.0
PRODID:-//ChamberMaster//Event Calendar 2.0//EN
METHOD:PUBLISH
X-PUBLISHED-TTL:P3D
REFRESH-INTERVAL:P3D
CALSCALE:GREGORIAN
BEGIN:VEVENT
DTSTART:20160325T230000Z
DTEND:20160326T010000Z
X-MICROSOFT-CDO-ALLDAYEVENT:FALSE
SUMMARY:Wildcard Movies @ The Historic Theater - Internet Cat Video Festival
DESCRIPTION:The Walker Art Center's Internet Cat Video Festival is the first offline celebration of online cat videos. The festival gathers fellow feline fanatics to watch a curated collection of cat clips from six second Vine videos to short films and everything in between in a social environment.
X-ALT-DESC;FMTTYPE=text/html:<span style="color: rgb(102\, 102\, 102)\; font-family: 'Droid Sans'\, 'Lucida Grande'\, Arial\, sans-serif\; font-size: 16.8px\; line-height: 26.4px\;">The Walker Art Center&rsquo\;s&nbsp\;</span><em style="color: rgb(102\, 102\, 102)\; font-family: 'Droid Sans'\, 'Lucida Grande'\, Arial\, sans-serif\; font-size: 16.8px\; line-height: 26.4px\;">Internet Cat Video Festival</em><span style="color: rgb(102\, 102\, 102)\; font-family: 'Droid Sans'\, 'Lucida Grande'\, Arial\, sans-serif\; font-size: 16.8px\; line-height: 26.4px\;">&nbsp\;is the first offline celebration of online cat videos. The festival gathers fellow feline fanatics to watch a curated collection of cat clips&mdash\;from six second Vine videos to short films and everything in between&mdash\;in a social environment.</span>
LOCATION:The Music Hall 28 Chestnut Street\, Portsmouth
UID:e.1659.16708
SEQUENCE:3
DTSTAMP:20260420T150840Z
URL:https://business.portsmouthchamber.org/events/details/wildcard-movies-the-historic-theater-internet-cat-video-festival-03-25-2016-16708
END:VEVENT

END:VCALENDAR
