BEGIN:VCALENDAR
VERSION:2.0
PRODID:-//ChamberMaster//Event Calendar 2.0//EN
METHOD:PUBLISH
X-PUBLISHED-TTL:P3D
REFRESH-INTERVAL:P3D
CALSCALE:GREGORIAN
BEGIN:VEVENT
DTSTART:20160121T233000Z
DTEND:20160122T013000Z
X-MICROSOFT-CDO-ALLDAYEVENT:FALSE
SUMMARY:Winter Films @ the Library -- The Martian
DESCRIPTION:Films at the library are open to the public and FREE. Light refreshments will be served! After a bad storm blows across Mars Astronaut Mark Watney is presumed dead and left behind. Now stuck on a hostile planet he must find a way to signal to Earth and in the meantime\, survive on limited supplies. 2015. Rated PG-13\, 141 min. Levenson Room. Other films this winter: Testament of Youth Thursday February 11 | 6:30 PM 2015. Rated PG-13\, 129 min. Everest Thursday February 25 | 6:30 PM 2015. PG-13\, 122 min.
X-ALT-DESC;FMTTYPE=text/html:Films at the library are open to the public and FREE. Light refreshments will be served! After a bad storm blows across Mars Astronaut Mark Watney is presumed dead and left behind. Now stuck on a hostile planet he must find a way to signal to Earth and in the meantime\, survive on limited supplies. 2015. Rated PG-13\, 141 min. Levenson Room. Other films this winter: Testament of Youth Thursday February 11 | 6:30 PM 2015. Rated PG-13\, 129 min. Everest Thursday February 25 | 6:30 PM 2015. PG-13\, 122 min.
LOCATION:Portsmouth Public Library 175 Parrott Avenue Portsmouth NH 03801
UID:e.1659.13365
SEQUENCE:3
DTSTAMP:20260420T132956Z
URL:https://business.portsmouthchamber.org/events/details/winter-films-the-library-the-martian-01-21-2016-13365
END:VEVENT

END:VCALENDAR
