BEGIN:VCALENDAR
VERSION:2.0
PRODID:-//ChamberMaster//Event Calendar 2.0//EN
METHOD:PUBLISH
X-PUBLISHED-TTL:P3D
REFRESH-INTERVAL:P3D
CALSCALE:GREGORIAN
BEGIN:VEVENT
DTSTART:20260111T180000Z
DTEND:20260111T200000Z
X-MICROSOFT-CDO-ALLDAYEVENT:FALSE
SUMMARY:WORKSHOP: Joyful Living: Align\, Declutter\, & Design
DESCRIPTION:This workshop is perfect for anyone wanting more joy\, less stress\, and a home and routine that feels balanced and intentional. It's relaxed and welcoming\, so if you have questions about healthy habits\, organizing\, or ways to refresh a room\, this is the place to ask them. This workshop is led by three experts: Kelly Hurd\, a Certified Health and Life Coach who helps boost mindset and resilience. Lauren Saltman\, a Professional Organizer who brings clarity and simplicity to every home. Lara Gibson\, a Color Consultant and Interior Designer who brings joy to every project. The workshop will be held at Visit their website to secure your spot at www.seacoastflote.com *Look under the Hampton calendar to register. $45
X-ALT-DESC;FMTTYPE=text/html:This workshop is perfect for anyone wanting more joy\, less stress\, and a home and routine that feels balanced and intentional. It&rsquo\;s relaxed and welcoming\, so if you have questions about healthy habits\, organizing\, or ways to refresh a room\, this is the place to ask them. This workshop is led by three experts: Kelly Hurd\, a Certified Health and Life Coach who helps boost mindset and resilience. Lauren Saltman\, a Professional Organizer who brings clarity and simplicity to every home. Lara Gibson\, a Color Consultant and Interior Designer who brings joy to every project. The workshop will be held at Visit their website to secure your spot at www.seacoastflote.com *Look under the Hampton calendar to register. $45
LOCATION:Flote 845 Lafayette Road\, Hampton
UID:e.1659.88443
SEQUENCE:3
DTSTAMP:20260423T132052Z
URL:https://business.portsmouthchamber.org/events/details/workshop-joyful-living-align-declutter-design-88443
END:VEVENT

END:VCALENDAR
