BEGIN:VCALENDAR
VERSION:2.0
PRODID:-//ChamberMaster//Event Calendar 2.0//EN
METHOD:PUBLISH
X-PUBLISHED-TTL:P3D
REFRESH-INTERVAL:P3D
CALSCALE:GREGORIAN
BEGIN:VEVENT
DTSTART:20140819T230000Z
DTEND:20140820T030000Z
X-MICROSOFT-CDO-ALLDAYEVENT:FALSE
SUMMARY:Writers in the Loft: Matthew Berry
DESCRIPTION:ESPN's Senior Fantasy Sports Analyst -  deemed "a fantasy savant" by The New York Times - takes a break from his popular column and ESPN television and radio appearances to share his world of sports and his bestseller FANTASY LIFE: The Outrageous\, Uplifting and Heartbreaking World of Fantasy Sports From the Guy Who's Lived It . Don't miss Berry's pre-season insights on top picks for 2014!\n\nMODERATOR: PETER SQUIRES\n\nIn addition to his day job at The Music Hall\, where he is the Corporate & Foundation Relations Manager\, and his night job as an active musician in the Seacoast music scene\, Peter Squires' most important work is as Commissioner of the "League of Shadows\," of which he is also the reigning champion. His accomplishments during the 2013 Fantasy Football season include drafting Antonio Brown in the 7th Round and Giovani Bernard in the 11th. Despite living in Pats country\, Peter roots for the New York Giants.
X-ALT-DESC;FMTTYPE=text/html:<p style="margin: 0px 0px 15px\; padding: 0px\; color: rgb(102\, 102\, 102)\; line-height: 22px\; font-family: &quot\;Droid Sans&quot\;\, &quot\;Lucida Grande&quot\;\, Arial\, sans-serif\; font-size: 14px\;">ESPN&rsquo\;s Senior Fantasy Sports Analyst -&nbsp\; deemed &ldquo\;a fantasy savant&rdquo\; by&nbsp\;<em>The New York Times</em>&nbsp\;- takes a break from his popular column and ESPN television and radio appearances to share his world of sports and his bestseller FANTASY LIFE:&nbsp\;<em>The Outrageous\, Uplifting and Heartbreaking World of Fantasy Sports From the Guy Who&rsquo\;s Lived It&nbsp\;</em>. Don&rsquo\;t miss Berry&rsquo\;s pre-season insights on top picks for 2014!</p>\n\n<h5 style="margin: 15px 0px 0px\; color: rgb(167\, 121\, 53)\; text-transform: uppercase\; line-height: 1.12rem\; font-family: &quot\;Droid Sans&quot\;\, &quot\;Lucida Grande&quot\;\, Arial\, sans-serif\; font-size: 0.87rem\;"><span style="color: rgb(0\, 0\, 0)\;">MODERATOR: PETER SQUIRES</span></h5>\n\n<p style="margin: 0px 0px 15px\; padding: 0px\; color: rgb(102\, 102\, 102)\; line-height: 22px\; font-family: &quot\;Droid Sans&quot\;\, &quot\;Lucida Grande&quot\;\, Arial\, sans-serif\; font-size: 14px\;">In addition to his day job at The Music Hall\, where he is the Corporate &amp\; Foundation Relations Manager\, and his night job as an active musician in the Seacoast music scene\, Peter Squires&rsquo\; most important work is as Commissioner of the &ldquo\;League of Shadows\,&rdquo\; of which he is also the reigning champion. His accomplishments during the 2013 Fantasy Football season include drafting Antonio Brown in the 7th Round and Giovani Bernard in the 11th. Despite living in Pats country\, Peter roots for the New York Giants.</p>\n
LOCATION:The Music Hall Loft
UID:e.1659.2179
SEQUENCE:3
DTSTAMP:20260419T175938Z
URL:https://business.portsmouthchamber.org/events/details/writers-in-the-loft-matthew-berry-08-19-2014-2179
END:VEVENT

END:VCALENDAR
