BEGIN:VCALENDAR
VERSION:2.0
PRODID:-//ChamberMaster//Event Calendar 2.0//EN
METHOD:PUBLISH
X-PUBLISHED-TTL:P3D
REFRESH-INTERVAL:P3D
CALSCALE:GREGORIAN
BEGIN:VEVENT
DTSTART:20140701T230000Z
DTEND:20140702T020000Z
X-MICROSOFT-CDO-ALLDAYEVENT:FALSE
SUMMARY:Writers in the Loft - Sue Miller
DESCRIPTION:The acclaimed author of The Good Mother\, While I Was Gone\, and The Senator's Wife comes to town with her gripping new novel about the tensions ignited between the summer people and the locals when a wave of fires spreads through a small New England Town. Suspenseful\, sophisticated\, rich in psychological nuance and emotional insight\, The Arsonist is vintage Sue Miller a finely wrought novel about belonging and community\, about how and where one ought to live\, about what it means to lead a fulfilling life. Don't miss hearing from one of our most elegant and engrossing novelists at her inimitable best.\n\nTicket package: $40. Includes reserved seat\, book (THE ARSONIST\, hardcover\, $25.95)\, bar beverage\, author presentation\, Q+A\, and book signing meet-and-greet
X-ALT-DESC;FMTTYPE=text/html:<p style="margin: 0px 0px 15px\; padding: 0px\; color: rgb(102\, 102\, 102)\; font-family: 'Droid Sans'\, 'Lucida Grande'\, Arial\, sans-serif\; font-size: 14px\; line-height: 22px\;">The acclaimed author of&nbsp\;<em>The Good Mother\, While I Was Gone</em>\, and&nbsp\;<em>The Senator&rsquo\;s Wife</em>&nbsp\;comes to town with her gripping new novel about the tensions ignited between the summer people and the locals when a wave of fires spreads through a small New England Town. Suspenseful\, sophisticated\, rich in psychological nuance and emotional insight\,&nbsp\;<em>The Arsonist</em>&nbsp\;is vintage Sue Miller&mdash\;a finely wrought novel about belonging and community\, about how and where one ought to live\, about what it means to lead a fulfilling life. Don&rsquo\;t miss hearing from one of our most elegant and engrossing novelists at her inimitable best.</p>\n\n<p style="margin: 0px 0px 15px\; padding: 0px\; color: rgb(102\, 102\, 102)\; font-family: 'Droid Sans'\, 'Lucida Grande'\, Arial\, sans-serif\; font-size: 14px\; line-height: 22px\;"><strong>Ticket package:</strong>&nbsp\;$40. Includes reserved seat\, book (THE ARSONIST\, hardcover\, $25.95)\, bar beverage\, author presentation\, Q+A\, and book signing meet-and-greet</p>\n
LOCATION:The Music Hall Loft
UID:e.1659.2166
SEQUENCE:3
DTSTAMP:20260419T190230Z
URL:https://business.portsmouthchamber.org/events/details/writers-in-the-loft-sue-miller-07-01-2014-2166
END:VEVENT

END:VCALENDAR
