BEGIN:VCALENDAR
VERSION:2.0
PRODID:-//ChamberMaster//Event Calendar 2.0//EN
METHOD:PUBLISH
X-PUBLISHED-TTL:P3D
REFRESH-INTERVAL:P3D
CALSCALE:GREGORIAN
BEGIN:VEVENT
DTSTART;VALUE=DATE:20161210
DTEND;VALUE=DATE:20161211
TRANSP:TRANSPARENT
X-MICROSOFT-CDO-ALLDAYEVENT:TRUE
SUMMARY:York Harbor Inn partners with Granite State Growler Tours for a Special Package!
DESCRIPTION:3 Course dinner for two in either our 1637 or Ships Cellar Pub\n	2 Tickets for the craft brewery bus tour with Granite State Growler Tours\n	Growler Tours include stops at Tributary Brewery in Kittery\, SoMe Brewery in York & Liars Bench Brewery in Portsmouth\, NH\n	Package includes all meal gratuties\n	Prices do not include 9% Maine State Lodging Tax\n	Add Friday or Sunday night stay in a Country Inn or Yorkshire Room for only 79 plus tax\n	Add Friday or Sunday in Luxury room for only 99 plus tax
X-ALT-DESC;FMTTYPE=text/html:<ul>\n	<li>&nbsp\;3 Course dinner for two in either our 1637 or Ships Cellar Pub</li>\n	<li>2 Tickets for the craft brewery bus tour with Granite State Growler Tours</li>\n	<li>Growler Tours include stops at Tributary Brewery in Kittery\, SoMe Brewery in York &amp\; Liars Bench Brewery in Portsmouth\, NH</li>\n	<li>Package includes all meal gratuties</li>\n	<li>Prices do not include 9% Maine State Lodging Tax</li>\n	<li>Add Friday or Sunday night stay in a Country Inn or Yorkshire Room for only 79 plus tax</li>\n	<li>Add Friday or Sunday in Luxury room for only 99 plus tax</li>\n</ul>\n
LOCATION:York Harbor Inn 480 York Street\, York\, ME
UID:e.1659.28104
SEQUENCE:3
DTSTAMP:20260421T211022Z
URL:https://business.portsmouthchamber.org/events/details/york-harbor-inn-partners-with-granite-state-growler-tours-for-a-special-package-28104
END:VEVENT

END:VCALENDAR
