BEGIN:VCALENDAR
VERSION:2.0
PRODID:-//ChamberMaster//Event Calendar 2.0//EN
METHOD:PUBLISH
X-PUBLISHED-TTL:P3D
REFRESH-INTERVAL:P3D
CALSCALE:GREGORIAN
BEGIN:VEVENT
DTSTART:20260602T210000Z
DTEND:20260602T230000Z
X-MICROSOFT-CDO-ALLDAYEVENT:FALSE
SUMMARY:You're Welcome: PRIDE Kick Off w/ NH Outright @ Loaded Question Brewing Co.
DESCRIPTION:
X-ALT-DESC;FMTTYPE=text/html:
LOCATION:Our next networking event with NH Outright is Tuesday\, June 2! Kick off Pride month with us at Loaded Question Brewing Company and network with the community. This is a free event\, but please pre-register so we know how many to expect Loaded Question Brewing Company\, 909 Islington St Suite #12\, Portsmouth\, NH Sensory Accessibility Information: No two You're Welcome events are quite the same. Some are seated and some are standing. There is plenty of time at the beginning and end of the event for open networking that can get loud at times.
UID:e.1659.90389
SEQUENCE:3
DTSTAMP:20260424T104740Z
URL:https://business.portsmouthchamber.org/events/details/you-re-welcome-a-safe-space-for-queer-and-ally-networking-90389
END:VEVENT

END:VCALENDAR
